BEGIN:VCALENDAR
VERSION:2.0
PRODID:-//wp-events-plugin.com//7.2.3.1//EN
BEGIN:VEVENT
UID:45@icfgeorgia.org
DTSTART;TZID=America/New_York:20260506T120000
DTEND;TZID=America/New_York:20260506T120000
DTSTAMP:20260415T192416Z
URL:https://icfgeorgia.org/events/change-coaches-partner-series-session-2/
SUMMARY:Change Coaches Partner Series: Session 2
DESCRIPTION:2026 Learning Series with LaTonya Wilkins: Conversations That G
 o Below the Surface\nSession 2: Coaching in Depth - Working Below the Surf
 ace with Presence\, Skill\, and Human Insight\nAbout the 2026 Learning Ser
 ies: A complimentary learning series for coaches who want to slow down\, d
 eepen presence\, and engage in more meaningful conversations—especially 
 in moments of complexity\, transition\, and change.\nThis six-part learnin
 g series offers thoughtfully facilitated 60-minute virtual sessions design
 ed for depth\, practice\, and reflection. Together\, we’ll explore what 
 it means to coach below the surface of our work—beyond tools and framewo
 rks—and into the relational dynamics that shape trust\, safety\, and rea
 l transformation.\n\nHosted by Change Coaches in Partnership with ICF Geor
 gia\nDate &amp\; Time: May 6 at 12 PM ET\nFormat: Live\, virtual\, facil
 itated conversation\nCost: Complimentary\nIn this session\, we’ll explo
 re how to bring greater presence and relational awareness into your coachi
 ng. You’ll practice noticing what’s alive below the surface of each co
 nversation and experiment with approaches that help clients feel seen\, he
 ard\, and understood.\n\nWe’ll discuss:\n\n 	How to stay present and att
 entive to what’s alive in the moment\n 	Strengthening relational awarene
 ss to support clients’ growth\n 	Creating shared safety where insight an
 d change can emerge naturally\n 	Practical ways to bring depth\, connectio
 n\, and human insight into every coaching conversation\n\nThis is a facili
 tated\, conversational learning space designed for reflection\, dialogue\,
  and real-time practice.\n\nMeet the Host\n[box] LaTonya Wilkins is the aw
 ard-winning founder and CEO of Change Coaches and author of Leading Below
  the Surface (top 10% of business books\, featured in Fast Company\, NPR\,
  and Inc.). A LinkedIn Top Voice and adjunct MBA lecturer at the Kellogg S
 chool of Management\, she helps leaders and organizations build trust\, ps
 ychological safety\, and real human connection — especially during chang
 e\, expansion\, and high-pressure environments. She is also the creator of
  Coaching Below the Surface (CBTS)\, an ICF-approved development experienc
 e for coaches and leaders ready to deepen their presence and impact. LaTon
 ya hosts the Leading Below the Surface podcast\, where she explores what i
 t really takes to lead and relate in today's world. [/box]\nRegistration f
 or this event is done through Change Coaches\n[button link="https://zoom.u
 s/meeting/register/prZOlgKGTJWmeT8CMQJ92A" type="big" newwindow="yes"] Reg
 ister Here[/button]
ATTACH;FMTTYPE=image/jpeg:https://icfgeorgia.org/wp-content/uploads/2026/0
 4/Session-2.png
CATEGORIES:Special Event
END:VEVENT
BEGIN:VTIMEZONE
TZID:America/New_York
X-LIC-LOCATION:America/New_York
BEGIN:DAYLIGHT
DTSTART:20260308T030000
TZOFFSETFROM:-0500
TZOFFSETTO:-0400
TZNAME:EDT
END:DAYLIGHT
END:VTIMEZONE
END:VCALENDAR