BEGIN:VCALENDAR
VERSION:2.0
PRODID:-//wp-events-plugin.com//7.2.3.1//EN
BEGIN:VEVENT
UID:36@icfgeorgia.org
DTSTART;TZID=America/New_York:20260502T080000
DTEND;TZID=America/New_York:20260502T193000
DTSTAMP:20260420T204317Z
URL:https://icfgeorgia.org/events/coaching-careers-and-connections-unlocki
 ng-human-potential/
SUMMARY:Coaching\, Careers\, and Connections: Unlocking Human Potential
DESCRIPTION:The coaching profession is evolving rapidly. Organizations are 
 facing unprecedented complexity\, leaders are navigating uncertainty\, and
  individuals are seeking deeper meaning\, resilience\, and sustainable suc
 cess.\n\nCoaching\, Careers\, and Connections: Unlocking Human Potential b
 rings together coaches\, students\, and human development professionals fo
 r a dynamic full-day experience designed to explore the future of coaching
 \, the science of flourishing\, and the power of meaningful connection.\n\
 nThis event is intentionally designed to provide practical insights\, prof
 essional development\, and community-building for coaches at every stage o
 f their journey.\n\nThroughout the day\, participants will explore:\n\n 	R
 eal-world pathways for building a successful coaching career\n 	Emerging t
 rends shaping the coaching profession\n 	Evidence-informed positive psycho
 logy tools that strengthen coaching impact\n 	Strategies for resilience\, 
 adaptability\, and navigating uncertainty\n 	The science and practice of j
 oy as a sustainable foundation for thriving\n\nWhether you are an establis
 hed coach\, an emerging practitioner\, or a student preparing to enter the
  field\, this experience offers valuable insights and connections that sup
 port both professional growth and personal development. This event also cr
 eates space for community and collaboration\, bringing together the Life U
 niversity and ICF Georgia communities in an environment designed for meani
 ngful dialogue and networking.\n[box] \nAgenda\n8:00 AM\nContinental Break
 fast &amp\; Networking\n\n9:00 AM – 12:00 PM\nPanel Discussion + Applied
  Positive Psychology Workshop\n\n12:00 PM – 2:00 PM\nLunch\n(Optional Wa
 lking Meditation Campus Tour)\n\n2:00 PM – 5:00 PM\nKeynote Presentation
  – Dr. Pamela Larde\n\n\n5:30 PM – 7:30 PM\nHappy Hour &amp\; Networki
 ng Mixer\n\n [box]\nWhat to Expect\nPanel Discussion: How to Succeed in th
 e Business of Coaching\nHear from experienced coaches representing diverse
  pathways within the profession\, including internal coaching roles and bu
 ilding thriving independent practices.\n\nPanelists will share insights on
 :\n\n 	Building a sustainable coaching business\n 	Internal coaching oppor
 tunities within organizations\n 	Developing a strong professional reputati
 on\n 	Navigating market changes and economic uncertainty\n 	Lessons learne
 d from real-world coaching experience\n\nWorkshop: Applied Positive Psycho
 logy Coaching: Real World Strategies from the Field\nThis interactive sess
 ion explores how evidence-informed principles from positive psychology can
  be applied in coaching\, leadership development\, and personal growth.\n\
 nLed by:\n\nDr. Mickey Parsons\, MCC\nDr. Kiki Ramsey\, MCC\nDr. Karma Hil
 l\, ACC\n\nParticipants will explore practical tools drawn from:\n\n 	Posi
 tive Psychology foundations\n 	 Strengths-based development\n 	The PERMA 
 framework for flourishing\n 	Adaptive resilience strategies for navigating
  uncertainty\n\nAttendees will leave with practical insights and technique
 s that can be immediately applied in coaching conversations and leadership
  contexts.\nKeynote Presentation: The Practice and Science of Joy\nFeaturi
 ng Dr. Pamela Larde\n\nDr. Larde is a nationally recognized scholar\, auth
 or\, and speaker whose work explores joy\, resilience\, self-motivation\, 
 and post-traumatic growth. Her research examines how individuals cultivate
  meaning and well-being in the face of adversity and life transitions.\n\n
 In this powerful keynote\, participants will explore:\n\n 	The multidimens
 ional nature of joy\n 	How meaning and resilience support human flourishin
 g\n 	The role of joy in personal and professional development\n 	Practical
  insights for cultivating sustainable well-being\n\nAdditional Experience\
 nParticipants will also have the opportunity to enjoy a guided walking med
 itation tour of the beautiful Life University campus during the lunch brea
 k.\n\nThe campus features expansive green space\, wooded trails\, and scen
 ic natural features including waterfalls—providing a unique opportunity 
 for reflection\, restoration\, and connection with nature.\nWhat’s Inclu
 ded\nYour registration includes:\n\n 	Continental breakfast\n 	Lunch\n 	Ha
 ppy hour reception\n 	Professional development sessions\n 	Networking with
  coaches and students\n 	Optional campus meditation walk\n\nCCE credits wi
 ll be announced once approved.\nPricing \n\nEarly Registration (through 4
 /17/26)\n\nICF Georgia Members: $59\nNon-Members: $79\n\nStandard Pricing 
 (After 4/17/26)\n\nMembers: $79\nNon-Members: $99\n\n*Please note - Regist
 ration indicates your consent to appear in event photos or video\, which m
 ay be used in ICF Georgia’s social media and promotional content.
ATTACH;FMTTYPE=image/jpeg:https://icfgeorgia.org/wp-content/uploads/2026/0
 3/Copy-of-ICF-2026-Toolkit-Postcard-6x4-1.png
CATEGORIES:Special Event
LOCATION:Life University\,  
X-APPLE-STRUCTURED-LOCATION;VALUE=URI;X-ADDRESS=1269 Barclay Cir\, Marietta
 \, GA\, 30060\, United States;X-APPLE-RADIUS=100;X-TITLE=Life University:g
 eo:0,0
END:VEVENT
BEGIN:VTIMEZONE
TZID:America/New_York
X-LIC-LOCATION:America/New_York
BEGIN:DAYLIGHT
DTSTART:20260308T030000
TZOFFSETFROM:-0500
TZOFFSETTO:-0400
TZNAME:EDT
END:DAYLIGHT
END:VTIMEZONE
END:VCALENDAR