BEGIN:VCALENDAR
VERSION:2.0
PRODID:-//wp-events-plugin.com//7.2.3.1//EN
BEGIN:VEVENT
UID:40@icfgeorgia.org
DTSTART;TZID=America/New_York:20260511T120000
DTEND;TZID=America/New_York:20260511T133000
DTSTAMP:20260420T204947Z
URL:https://icfgeorgia.org/events/coaching-with-a-twist-improv-for-coaches
 /
SUMMARY:Coaching with a Twist: Improv for Coaches
DESCRIPTION:As coaches we are improvisers\; we have structures and skills (
 competencies)\, but to apply those most effectively\, we must be in the mo
 ment\, listening\, connecting and co-creating. \n\nIn this 90-minute sess
 ion\, we use improv rules and structures from theatre and comedy\, as well
  as those tailored just for coaches\, to experiment\, play and learn. You
 ’ll get comfortable with not pre-planning or getting ahead in your coach
 ing conversations\, and trust in the  bottomless well of ideas and possib
 ilities that we can all (coaches and clients) access. \nLearning objectiv
 es \nBy the end of this session\, participants will be able to: \n\n 	Co
 me into a calm\, creative\, resourceful state. \n 	Listen with somatic aw
 areness. \n 	Bring more playfulness and empathy into your coaching. \n 	
 Find more freedom in your coaching through non-judgment of self and others
 .\n 	Deepen coaching competency and skill. \n\nMeet the Hosts\n[box]  Am
 y Warshawsky and Betsy Salkind are the co-founders of BNA Mentor Coaching\
 , delivering experiential learning through individual\, group\, and corpor
 ate team training and workshops. They are co-authors of  Coaching with a 
 Twist: Improv for Coaches.\n\nBETSY SALKIND\, PCC\, NBC-HWC\, is a health 
 and mentor coach with expertise in team\, group\, and leadership coaching.
  She trained at the Mayo Clinic and was the Associate Director and Lead Me
 ntor Coach for the ADAPT Health Coach Training Program. A professional sta
 ndup comic and TV writer\, with credits including The Tonight Show and Ros
 eanne\, she also holds an MS in Organization Studies from MIT Sloan School
  of Management.  \n\n&nbsp\;\n\nAMY J. WARSHAWSKY\, MCC\, NBC-HWC\, is a 
 leadership and mentor coach with expertise in coaching individuals\, teams
  and groups. She integrates somatic practices with coaching to deepen self
 -awareness and embodied leadership. A former faculty member of the ADAPT H
 ealth Coach Training Program\, Amy has held roles in nonprofit and higher 
 education settings. She holds an MS in Journalism from Northwestern Univer
 sity and a BA from Cornell University. \n\n[/box]
ATTACH;FMTTYPE=image/jpeg:https://icfgeorgia.org/wp-content/uploads/2026/0
 4/ICW-5.11.26-Twist.png
CATEGORIES:Special Event
END:VEVENT
BEGIN:VTIMEZONE
TZID:America/New_York
X-LIC-LOCATION:America/New_York
BEGIN:DAYLIGHT
DTSTART:20260308T030000
TZOFFSETFROM:-0500
TZOFFSETTO:-0400
TZNAME:EDT
END:DAYLIGHT
END:VTIMEZONE
END:VCALENDAR