BEGIN:VCALENDAR
VERSION:2.0
PRODID:-//wp-events-plugin.com//7.2.3.1//EN
BEGIN:VEVENT
UID:44@icfgeorgia.org
DTSTART;TZID=America/New_York:20260515T130000
DTEND;TZID=America/New_York:20260515T140000
DTSTAMP:20260413T203626Z
URL:https://icfgeorgia.org/events/icf-certification-qa-a-partner-in-naviga
 ting-your-path-3/
SUMMARY:ICF Certification Q&A: A Partner in Navigating Your Path
DESCRIPTION:Join an experienced ICF PCC coach for a focused\, interactive s
 ession designed to demystify the ICF certification process. You’ll get c
 lear guidance on requirements\, real-time support as you navigate your app
 lication\, and practical insights to help you strengthen your coaching ski
 lls and advance with confidence. \nLearning objectives \n\n 	Gain clarit
 y on the ICF certification process\, including key requirements for Levels
  1 and 2. \n 	Receive personalized advice on navigating the ICF certifica
 tion application\, including tips for a successful submission. \n 	Get an
 swers to your specific questions regarding the ICF certification journey f
 rom an experienced ICF PCC coach and mentor. \n 	Learn strategies for dee
 pening your coaching expertise and advancing through the ICF certification
  levels. \n 	Understand common challenges in the certification process an
 d how to overcome them. \n\nMeet the Host\n[box]\n\nChelsea Seid \n\nChel
 sea Seid is an ICF-certified PCC executive coach with an MBA focused on he
 lping companies\, leaders\, and coaches turn their ideas into practices to
  achieve their goals. Chelsea is the founder and CEO of Talent Praxis\, a 
 boutique leadership  development company\, and a co-founder and CSO of Tr
 io Coaching Academy\, an ICF accredited coach training academy. For the p
 ast 8 years\, Chelsea has been coaching over 150 leaders from Director to 
 C-Suite and creating leadership development programs for more than 30 com
 panies ranging from tech to professional services\, finance\, and consumer
  goods.  \n\nChelsea has also been teaching at ICF-Accredited coach train
 ing schools for the past 3 years\, including co-founding Trio\, where she 
 worked with her co-founders to develop and facilitate the curriculum\, coa
 ching education\, and coaching enablement programming. Before this\, Chels
 ea co-founded and ran a venture-backed scalable coaching startup for five 
 years\, which was  eventually acquired by Sounding Board. In addition to 
 coaching\, Chelsea trains in management and leadership tools\, consults in
  behavioral competencies\, and mentors startup founders and coaches. Chels
 ea has 15 years of management\, leadership\, and talent development  expe
 rience. [/box]\n\n&nbsp\;\n\n&nbsp\;
ATTACH;FMTTYPE=image/jpeg:https://icfgeorgia.org/wp-content/uploads/2026/0
 4/ICW-5.15.26-Certification.png
CATEGORIES:Special Event
END:VEVENT
BEGIN:VTIMEZONE
TZID:America/New_York
X-LIC-LOCATION:America/New_York
BEGIN:DAYLIGHT
DTSTART:20260308T030000
TZOFFSETFROM:-0500
TZOFFSETTO:-0400
TZNAME:EDT
END:DAYLIGHT
END:VTIMEZONE
END:VCALENDAR