BEGIN:VCALENDAR
VERSION:2.0
PRODID:-//wp-events-plugin.com//7.2.3.1//EN
BEGIN:VEVENT
UID:41@icfgeorgia.org
DTSTART;TZID=America/New_York:20260512T120000
DTEND;TZID=America/New_York:20260512T130000
DTSTAMP:20260413T195154Z
URL:https://icfgeorgia.org/events/playing-with-the-power-of-metaphors/
SUMMARY:Playing with the Power of Metaphors
DESCRIPTION:This engaging webinar will help you uncover the power of metaph
 ors in your coaching conversations. Metaphors are deeply woven into our da
 ily conversations\, often ignored if not obvious. Explore how visual langu
 age impacts your clients. \n\nJohn Geary said\, "We instinctively resort 
 to metaphors when describing anything abstract: ideas\, feelings\, thought
 s\, emotions\, concepts." \n\nDive into the neuroscience of metaphors and
  comprehend how they illuminate our minds. Metaphors not only enhance our 
 self-expression but also serve as potent tools for instigating outcomes\, 
 navigating complexities\, and fostering profound transformations. \n\nHum
 ans don't use metaphors accidentally. Metaphors introduced by your clients
  can serve as powerful keys\, unlocking their self-awareness and inner pot
 ential. You can facilitate more meaningful and impactful conversations by 
 mastering the art of using your clients' metaphors rather than interjectin
 g your own. \n\nJoin us on a journey into the power of metaphors today! 
 \nKey Take-a-ways\n\n 	Neuroscience + Metaphors. How metaphors impact our 
 neural wiring\, and how to pay attention to the embodied metaphor as a too
 l. \n 	The need for Embodied Learning for Sustainable changes. \n 	The p
 ower of using metaphors in coaching conversation to create greater awarene
 ss\, anchor insights\, as well as using them to create agreements and move
  from topic to success measures. \n 	A Coaching Demo.\n 	How metaphors we
 ave through the ICF Core Competencies. \n\nMeet the Host\n[box]\n\nLyssa 
 deHart\, LICSW\, MCC\, BCC\, EMCC\, author of StoryJacking: Change Your Di
 alogue\, Transform Your Life\, the Reflective Coach\, Light Up: The Scienc
 e of Coaching with Metaphors\, and Sticky Outcomes: at the Intersection of
  Coaching\, Neuroscience\, and Lasting Change. She is also the host of th
 e Coaching Studio Podcast. Lyssa is a recovering Therapist\, Confidence Co
 ach\, Certified Mentor Coach\, Coaching SUPERVision Partner\, ICF PCC Asse
 ssor\, and coaching educator. \n\nLyssa’s understanding of ICF Core Com
 petencies and neuroscience instills confidence in her ability to guide pro
 fessional coaches. She empowers them to enhance their client outcomes thro
 ugh deep listening\, client-led approaches\, and ultimately\, by fostering
  a partnership that empowers their clients. In all her work\, Lyssa is com
 mitted to improving the coaching community by enhancing the quality and im
 pact of the coach-client relationship. [/box]\n\n&nbsp\;
ATTACH;FMTTYPE=image/jpeg:https://icfgeorgia.org/wp-content/uploads/2026/0
 4/ICW-5.12.26-metaphor.png
CATEGORIES:Special Event
END:VEVENT
BEGIN:VTIMEZONE
TZID:America/New_York
X-LIC-LOCATION:America/New_York
BEGIN:DAYLIGHT
DTSTART:20260308T030000
TZOFFSETFROM:-0500
TZOFFSETTO:-0400
TZNAME:EDT
END:DAYLIGHT
END:VTIMEZONE
END:VCALENDAR