BEGIN:VCALENDAR
VERSION:2.0
PRODID:-//wp-events-plugin.com//7.2.3.1//EN
BEGIN:VEVENT
UID:42@icfgeorgia.org
DTSTART;TZID=America/New_York:20260513T120000
DTEND;TZID=America/New_York:20260513T130000
DTSTAMP:20260413T200401Z
URL:https://icfgeorgia.org/events/the-real-coaching-journey-what-to-expect
 -how-to-sustain-yourself/
SUMMARY:The Real Coaching Journey: What to Expect & How to Sustain Yourself
DESCRIPTION:This session offers reality-based tips to spark self-awareness\
 , normalize the early-stage coaching experience\, and reinforce sustainabl
 e habits as you enter the coaching field. \nLearning objectives \n\n 	By
  the end of this session\, participants will be able to: \n 	Understandin
 g the Need for Self Care and Energy Management \n 	Embracing a “Coach
 ” identity and Building Confidence ▪ Dealing with Challenges \n 	Sust
 ain and Grow with Coaching \n\nMeet the Host\n[box]\n\nBridget Hawkins\n\
 nFor over 20 years\, Bridget built a powerful career as a trusted HR leade
 r—advising C suite executives\, shaping culture\, and leading transforma
 tive work in leadership  development\, diversity\, and risk strategy—ea
 rning a reputation as the steady “HR  Consigliere” leaders relied on 
 most. Along the way\, she noticed a pattern: high  achievers succeeding p
 rofessionally while feeling personally misaligned\, which sparked her evol
 ution. \n\nNow a Certified Business Life Coach\, she helps successful lea
 ders redesign their lives from the inside out through the Honoring Your Li
 ght Coaching Program\, aligning  ambition with well-being through executi
 ve coaching\, speaking\, group programs\, and curated self-care experienc
 es. Her mission is simple: help accomplished leaders stop playing small an
 d fully honor their light. [/box]
ATTACH;FMTTYPE=image/jpeg:https://icfgeorgia.org/wp-content/uploads/2026/0
 4/ICW-5.13.26-Journey.png
CATEGORIES:Special Event
END:VEVENT
BEGIN:VTIMEZONE
TZID:America/New_York
X-LIC-LOCATION:America/New_York
BEGIN:DAYLIGHT
DTSTART:20260308T030000
TZOFFSETFROM:-0500
TZOFFSETTO:-0400
TZNAME:EDT
END:DAYLIGHT
END:VTIMEZONE
END:VCALENDAR